BEGIN:VCALENDAR
VERSION:2.0
PRODID:-//NSRCA F3A Pattern Event - ECPv6.5.1.5//NONSGML v1.0//EN
CALSCALE:GREGORIAN
METHOD:PUBLISH
X-WR-CALNAME:NSRCA F3A Pattern Event
X-ORIGINAL-URL:https://nsrca.fun
X-WR-CALDESC:Events for NSRCA F3A Pattern Event
REFRESH-INTERVAL;VALUE=DURATION:PT1H
X-Robots-Tag:noindex
X-PUBLISHED-TTL:PT1H
BEGIN:VTIMEZONE
TZID:UTC
BEGIN:STANDARD
TZOFFSETFROM:+0000
TZOFFSETTO:+0000
TZNAME:UTC
DTSTART:20240101T000000
END:STANDARD
TZID:America/New_York
BEGIN:DAYLIGHT
TZOFFSETFROM:-0500
TZOFFSETTO:-0400
TZNAME:EDT
DTSTART:20240310T070000
END:DAYLIGHT
BEGIN:STANDARD
TZOFFSETFROM:-0400
TZOFFSETTO:-0500
TZNAME:EST
DTSTART:20241103T060000
END:STANDARD
END:VTIMEZONE
BEGIN:VEVENT
DTSTART;VALUE=DATE:20240706
DTEND;VALUE=DATE:20240707
DTSTAMP:20260419T211028
CREATED:20221202T185124Z
LAST-MODIFIED:20240121T185548Z
UID:576-1720224000-1720310399@nsrca.fun
SUMMARY:Haverstraw Pattern Challenge
DESCRIPTION:The field will be available for training on Friday July 12th \nCo CD Anthony Romano \nPlease register at NSRCA.US
URL:https://nsrca.fun/event/haverstraw-pattern-challenge/
LOCATION:Haverstraw Model Aerodrome\, 516-524 Beach Rd\, West Haverstraw\, NY\, 10993\, United States
CATEGORIES:District 1
ATTACH;FMTTYPE=image/jpeg:/wp-content/uploads/2022/12/Haverstraw.jpg
END:VEVENT
BEGIN:VEVENT
DTSTART;VALUE=DATE:20240712
DTEND;VALUE=DATE:20240715
DTSTAMP:20260419T211028
CREATED:20230317T141556Z
LAST-MODIFIED:20240206T044316Z
UID:2956-1720742400-1721001599@nsrca.fun
SUMMARY:3nd Annual Parker Pattern Contest
DESCRIPTION:Greetings\, \nYou are cordially invited to the 3rd Annual Parker Pattern Contest\, to be held at the Crosswinds RC Club. \nPractice will be Held on Friday July 12 \,2024.  The contest will held on Saturday\, July 13\, 2024 and Sunday July 14\, 2024 \nLunch will be provided on Saturday and Sunday. (Burgers\, Hot Dogs\, Chips\, Soda\, Cookies…. ) \nRegistration fee:  $35.00 \nClasses: \nClub Class – If there are enough participants \nSportsman \nIntermediate \nAdvanced \nMasters  – FAI classes will be held either in lieu of Masers or in addition to\, depending on participation \nThere will be 10 places available for camping\, however there are no hookups available. Per the State land Board\, there are no open fires permitted. Gas Grills are available on site. \nWe hope you will plan to attend. \nThank you! \nBill Whichelo
URL:https://nsrca.fun/event/2nd-annual-parker-pattern-contest/
LOCATION:Crosswinds RC\, 32421 E Country Rd 50\, Aurora\, CO\, 80016\, United States
CATEGORIES:District 5
ATTACH;FMTTYPE=image/jpeg:/wp-content/uploads/2023/03/crosswindsLogo_med.jpg
ORGANIZER;CN="William James Whichelo":MAILTO:rocketman2012@outlook.com
END:VEVENT
BEGIN:VEVENT
DTSTART;VALUE=DATE:20240713
DTEND;VALUE=DATE:20240714
DTSTAMP:20260419T211028
CREATED:20221202T220545Z
LAST-MODIFIED:20240121T192256Z
UID:629-1720828800-1720915199@nsrca.fun
SUMMARY:ARCS Marcellus
DESCRIPTION:A one day pattern contest primarily focusing on RC Pattern Competition.\nAll classes will be flown inclding; Club Class\, Sportman\, Intermediate\, Advaced\, Masters\, FAI\nLocated on a full size private airport with a dedicated RC flying field. \nClub Class Pilots fly for $15.00 – No special aircraft required to fly Club Class\, bring what you fly. \nAll other classes are $25.00 \n\nClasses: Club\, Sporstman\, Intermediate\, Advanced\, Masters\, FAI\nSponsored by the Aero Radio Club of Syracuse\nField will be available for practice on friday after 3:00 pm\nLunch and drinks are included in entry fee!\nFirst round starts at 10:00am\nIf time and weather allows all classes will fly four rounds\n\nPlease register at NSRCA.US site.
URL:https://nsrca.fun/event/arcs-marcellus/
LOCATION:ARCS Club Field\, 4910 Limeledge Rd\, Marcellus\, NY\, 13108\, United States
CATEGORIES:District 1
ATTACH;FMTTYPE=image/png:/wp-content/uploads/2022/12/Screenshot-2024-01-11-at-8.33.25 AM.png
END:VEVENT
BEGIN:VEVENT
DTSTART;VALUE=DATE:20240713
DTEND;VALUE=DATE:20240715
DTSTAMP:20260419T211028
CREATED:20221218T195413Z
LAST-MODIFIED:20240206T013037Z
UID:1194-1720828800-1721001599@nsrca.fun
SUMMARY:Midwest Air Wing
DESCRIPTION:. Open to all RC pilots\, all Districts\n. Registration 0730-0900 Saturday\n. $40 Entry\, fist time pattern pilots entry fee waived\n. Pilot meeting at 0900 and flying starts at 0930\n. Camping\, no hookups\n. Lunch provided both days\nPlease register at NSRCA.US
URL:https://nsrca.fun/event/midwest-air-wing/
LOCATION:Midwest Air Wing RC Club\, 285 Bruns Road\, Pontoon Beach\, IL\, 62040\, United States
CATEGORIES:District 5
ATTACH;FMTTYPE=image/jpeg:/wp-content/uploads/2022/12/Midwest-Air-Wing-RC-Logo.jpg
ORGANIZER;CN="Jeff Mueller":MAILTO:falcon1az@gmail.com
END:VEVENT
BEGIN:VEVENT
DTSTART;VALUE=DATE:20240713
DTEND;VALUE=DATE:20240715
DTSTAMP:20260419T211028
CREATED:20240204T223107Z
LAST-MODIFIED:20240204T223107Z
UID:3836-1720828800-1721001599@nsrca.fun
SUMMARY:Weak Signals Pattern Contest
DESCRIPTION:Please register at NSRCA.US
URL:https://nsrca.fun/event/weak-signals-pattern-contest/
LOCATION:Weak Signals RC Club\, 11500 Minx Rd\, La Salle\, 48145\, United States
CATEGORIES:District 4
ATTACH;FMTTYPE=image/png:/wp-content/uploads/2024/02/Screenshot-2024-02-05-at-9.26.40 AM.png
ORGANIZER;CN="Bob Kane":MAILTO:getterflash@yahoo.com
END:VEVENT
BEGIN:VEVENT
DTSTART;VALUE=DATE:20240729
DTEND;VALUE=DATE:20240803
DTSTAMP:20260419T211028
CREATED:20221202T213333Z
LAST-MODIFIED:20240207T070122Z
UID:624-1722211200-1722643199@nsrca.fun
SUMMARY:NATS
DESCRIPTION:Save the date!!!! \n  \n 
URL:https://nsrca.fun/event/nats/
LOCATION:AMA\, 5161 E Memorial Dr\, Muncie\, Indiana\, 47302\, United States
CATEGORIES:Canada,District 1,District 2,District 3,District 4,District 5,District 6,District 7,District 8,F3P
ATTACH;FMTTYPE=image/png:/wp-content/uploads/2022/12/Screenshot-2024-02-07-at-5.59.54 PM.png
END:VEVENT
END:VCALENDAR