BEGIN:VCALENDAR
VERSION:2.0
PRODID:-//NSRCA F3A Pattern Event - ECPv6.5.1.5//NONSGML v1.0//EN
CALSCALE:GREGORIAN
METHOD:PUBLISH
X-WR-CALNAME:NSRCA F3A Pattern Event
X-ORIGINAL-URL:https://nsrca.fun
X-WR-CALDESC:Events for NSRCA F3A Pattern Event
REFRESH-INTERVAL;VALUE=DURATION:PT1H
X-Robots-Tag:noindex
X-PUBLISHED-TTL:PT1H
BEGIN:VTIMEZONE
TZID:UTC
BEGIN:STANDARD
TZOFFSETFROM:+0000
TZOFFSETTO:+0000
TZNAME:UTC
DTSTART:20240101T000000
END:STANDARD
TZID:America/New_York
BEGIN:DAYLIGHT
TZOFFSETFROM:-0500
TZOFFSETTO:-0400
TZNAME:EDT
DTSTART:20240310T070000
END:DAYLIGHT
BEGIN:STANDARD
TZOFFSETFROM:-0400
TZOFFSETTO:-0500
TZNAME:EST
DTSTART:20241103T060000
END:STANDARD
TZID:America/New_York
BEGIN:DAYLIGHT
TZOFFSETFROM:-0500
TZOFFSETTO:-0400
TZNAME:EDT
DTSTART:20240310T070000
END:DAYLIGHT
BEGIN:STANDARD
TZOFFSETFROM:-0400
TZOFFSETTO:-0500
TZNAME:EST
DTSTART:20241103T060000
END:STANDARD
END:VTIMEZONE
BEGIN:VEVENT
DTSTART;VALUE=DATE:20240601
DTEND;VALUE=DATE:20240602
DTSTAMP:20260420T191340
CREATED:20221202T212900Z
LAST-MODIFIED:20240120T202907Z
UID:619-1717200000-1717286399@nsrca.fun
SUMMARY:6th Annual Pattern Contest
DESCRIPTION:Please register at NSRCA.us site.
URL:https://nsrca.fun/event/5th-annual-pattern-contest/
LOCATION:Burlington County RRC\, 151 N Pemberton Rd\, Pemberton\, NJ\, 08068\, United States
CATEGORIES:District 1
ATTACH;FMTTYPE=image/png:/wp-content/uploads/2022/12/Screenshot-2024-01-20-at-3.28.14 PM.png
END:VEVENT
BEGIN:VEVENT
DTSTART;VALUE=DATE:20240601
DTEND;VALUE=DATE:20240603
DTSTAMP:20260420T191340
CREATED:20221218T195149Z
LAST-MODIFIED:20240324T145826Z
UID:1183-1717200000-1717372799@nsrca.fun
SUMMARY:D5 Pattern Primer
DESCRIPTION:
URL:https://nsrca.fun/event/r-c-barnstormers-aerobatic-fun-fly/
LOCATION:R/C Barnstormers\, 11951 South Rene Street\, Olathe\, KS\, 66062\, United States
CATEGORIES:District 5
ATTACH;FMTTYPE=image/png:/wp-content/uploads/2022/12/RCLOGO.png
ORGANIZER;CN="Vicente 'Vince' Bortone":MAILTO:vincebrc@gmail.com
END:VEVENT
BEGIN:VEVENT
DTSTART;VALUE=DATE:20240601
DTEND;VALUE=DATE:20240603
DTSTAMP:20260420T191341
CREATED:20230511T122509Z
LAST-MODIFIED:20240120T162453Z
UID:3006-1717200000-1717372799@nsrca.fun
SUMMARY:Jetero Pattern Classic
DESCRIPTION:. Any AMA legal airplane OK for Sportsman \n. Field open for practice Friday \n. Flying will start around 10-12:00 depending on sun \n. Field has water\, electricity\, flushing toilets and concessions \n. Large covered area for pilots \n. Space for Rv’s no Hookups \nPlease register at NSRCA.US site. \nHotels: Atascocita – Best Western\, Dayton – Best Western\, Humble – Holiday Inn Express
URL:https://nsrca.fun/event/jetero-pattern-classic/
LOCATION:JETERO RC Club\, 9249 FM686\, Dayton\, TX\, United States
CATEGORIES:District 6
ATTACH;FMTTYPE=image/png:/wp-content/uploads/2023/05/Jetero.png
ORGANIZER;CN="JF Forestieri":MAILTO:jf.forestieri@gmail.com
END:VEVENT
BEGIN:VEVENT
DTSTART;VALUE=DATE:20240601
DTEND;VALUE=DATE:20240603
DTSTAMP:20260420T191341
CREATED:20230513T214034Z
LAST-MODIFIED:20240204T220818Z
UID:3014-1717200000-1717372799@nsrca.fun
SUMMARY:Muncie D4 Contest
DESCRIPTION:June 3rd and 4th \nPlease register at NSRCA.US \nPractice Friday June 2nd
URL:https://nsrca.fun/event/muncie-d4-contest/
LOCATION:AMA\, 5161 E Memorial Dr\, Muncie\, Indiana\, 47302\, United States
CATEGORIES:District 4,District 5
ATTACH;FMTTYPE=image/png:/wp-content/uploads/2023/05/Screenshot-2023-05-13-at-5.37.51-PM.png
ORGANIZER;CN="Bill Pritchett":MAILTO:billpritch@yahoo.com
END:VEVENT
BEGIN:VEVENT
DTSTART;VALUE=DATE:20240608
DTEND;VALUE=DATE:20240610
DTSTAMP:20260420T191341
CREATED:20221202T193617Z
LAST-MODIFIED:20240206T033713Z
UID:594-1717804800-1717977599@nsrca.fun
SUMMARY:Pattern Contest hosted by Canandaigua Chiefs RC Club
DESCRIPTION:The film will be open for practice on 1:00 pm Friday afternoon. \nCamping Available\, no hook-ups – pre registration required \nEntry Fee:$45\, includes lunch and drinks. \nClub Class $25 – fly any type\, AMA legal plane \nPre registration requested\, email name & class to ronnan57@gmail.com \nJune 8: 7:30 – 8:45 Registration. 8:45 Pilots Meeting\, 9:00 Wheels up! Up to 6 rounds flown \nWe encourage beginners to participate and will help answer your questions and coach flying technique.
URL:https://nsrca.fun/event/sky-chiefs-canandaigua/
LOCATION:Sky Chief Canandaigua\, Gehan Rd\, Canandaigua\, NY\, United States
CATEGORIES:District 1
ATTACH;FMTTYPE=image/png:/wp-content/uploads/2022/12/Screenshot-2023-05-25-at-8.21.11-AM.png
ORGANIZER;CN="Bill Birkett":MAILTO:wrbirkett@gmail.com
END:VEVENT
BEGIN:VEVENT
DTSTART;VALUE=DATE:20240614
DTEND;VALUE=DATE:20240617
DTSTAMP:20260420T191341
CREATED:20230211T154852Z
LAST-MODIFIED:20240229T151137Z
UID:2813-1718323200-1718582399@nsrca.fun
SUMMARY:2024 Colorado Pattern Challenge
DESCRIPTION:Welcome to the 2024 Colorado Pattern Challenge (CPC)!  The CPC is hosted by the Arvada Associated Modelers.  This is our 15th CPC in as many years and will take place at the AAM East Field.  The CPC is 3-day\, AA\, Sanctioned event for RC Aerobatics for Sportsman\, Intermediate\, Advanced\, Masters\, F3A Silver and F3A (P&F) (JSA combined). There is a practice day on Friday\, then 6 rounds planned (4 Saturday / 2 Sunday) with contestant judging. Trophy/plaques will be awarded for 3 places\, each class. There are NO aircraft restrictions for Sportsman flyers. \nEntry fee is $45 (all contestants) and includes lunch and beverages all 3 days. The CPC also has many sponsors and prizes.  We typically give away over $1\,000 in sponsorship merchandise to contestants and helpers.  No one goes away empty-handed! \nFor more information please see the Event Flyer\, or contact Joe Pirozzoli (jfpirozzoli@gmail.com)\, CD.  LET’S FLY SOME PATTERN!!! \nPlease note that an EDF event is also planned.  Contact the CD for more information. \nRegister at NSRCA.US
URL:https://nsrca.fun/event/2023-colorado-pattern-challenge/
LOCATION:Arvada Associated Modelers\, 7608 Highway 93\, Golden\, CO\, 80403\, United States
CATEGORIES:District 5
ATTACH;FMTTYPE=image/png:/wp-content/uploads/2023/02/Screenshot-2024-02-29-at-10.09.21 AM.png
ORGANIZER;CN="Joe Pirozzoli":MAILTO:jfpirozzoli@gmail.com
END:VEVENT
BEGIN:VEVENT
DTSTART;VALUE=DATE:20240622
DTEND;VALUE=DATE:20240623
DTSTAMP:20260420T191341
CREATED:20221202T212534Z
LAST-MODIFIED:20240117T203208Z
UID:614-1719014400-1719100799@nsrca.fun
SUMMARY:Lehigh Valley Radio Control Society
DESCRIPTION:Dale Hart is Co CD \nPlease register at NSRCA.US site.
URL:https://nsrca.fun/event/lehigh-valley-radio-control-society/
LOCATION:Lehigh Valley Radio Control Society\, Gradwohl Switch Road\, Easton\, PA\, 18045\, United States
CATEGORIES:District 1
ATTACH;FMTTYPE=image/png:/wp-content/uploads/2022/12/Screenshot-2024-01-17-at-3.29.59 PM.png
END:VEVENT
BEGIN:VEVENT
DTSTART;VALUE=DATE:20240622
DTEND;VALUE=DATE:20240623
DTSTAMP:20260420T191341
CREATED:20230219T232746Z
LAST-MODIFIED:20240206T043240Z
UID:2880-1719014400-1719100799@nsrca.fun
SUMMARY:AMOS RC 1-day Pattern Contest
DESCRIPTION:Join us for the 2nd annual AMOS RC Pattern contest.  This is a 1-day contest at the AMOS RC flying site in Roselville/Lincoln\, CA.  The fileld has a large petromat runway\, covered pits\, and an amazing view of the Sierra Nevada Mountains.  The field does not have electricity or running water\, but drinking water will be provided. \nContact Charlie or Russ Nichols 916 212-8867 \nPlease register at NSRCA.US
URL:https://nsrca.fun/event/amos-rc-1-day-pattern-contest/
LOCATION:AMOS RC Club\, 4015 East Catlett Rd\, Lincoln\, CA\, 95648\, United States
CATEGORIES:District 7
ATTACH;FMTTYPE=image/png:/wp-content/uploads/2023/02/Amos.png
END:VEVENT
BEGIN:VEVENT
DTSTART;VALUE=DATE:20240622
DTEND;VALUE=DATE:20240623
DTSTAMP:20260420T191341
CREATED:20240204T221934Z
LAST-MODIFIED:20240204T221934Z
UID:3831-1719014400-1719100799@nsrca.fun
SUMMARY:PLAINFIELD PATTERN CONTEST
DESCRIPTION:Please register at NSRCA.US
URL:https://nsrca.fun/event/plainfield-pattern-contest-2/
LOCATION:Screaming Eagles RC Club\, 501 W Main St\, Plainfield\, IN\, 46168\, United States
CATEGORIES:District 4
ATTACH;FMTTYPE=image/png:/wp-content/uploads/2024/02/cartoon.png
ORGANIZER;CN="Joe Winterrowd":MAILTO:joewinterrowd494@gmail.com
END:VEVENT
BEGIN:VEVENT
DTSTART;VALUE=DATE:20240622
DTEND;VALUE=DATE:20240624
DTSTAMP:20260420T191341
CREATED:20240229T145436Z
LAST-MODIFIED:20240229T145436Z
UID:4000-1719014400-1719187199@nsrca.fun
SUMMARY:Andersonville Contest
DESCRIPTION:Please register at NSRCA.US
URL:https://nsrca.fun/event/andersonville-contest/
LOCATION:Hodges Field\, 428 Neil Hodges Rd\, Andersonville\, GA\, United States
CATEGORIES:District 3
ATTACH;FMTTYPE=image/png:/wp-content/uploads/2024/02/Screenshot-2024-02-29-at-9.53.54 AM.png
END:VEVENT
BEGIN:VEVENT
DTSTART;VALUE=DATE:20240622
DTEND;VALUE=DATE:20240624
DTSTAMP:20260420T191341
CREATED:20240331T121007Z
LAST-MODIFIED:20240331T121007Z
UID:4177-1719014400-1719187199@nsrca.fun
SUMMARY:Tri Village RCers 2024
DESCRIPTION:Sponsorship by F3A Unlimited !!!!
URL:https://nsrca.fun/event/tri-village-rcers-2024/
LOCATION:Tri-Village RC Club\, Shoe Factory Road\, Hoffman Estates\, 60192\, United States
CATEGORIES:District 5
ATTACH;FMTTYPE=image/png:/wp-content/uploads/2024/03/Screenshot-2024-03-31-at-1.09.41 PM.png
ORGANIZER;CN="Rusty Dose":MAILTO:berusty1@gmail.com
END:VEVENT
BEGIN:VEVENT
DTSTART;TZID=America/New_York:20240622T080000
DTEND;TZID=America/New_York:20240623T170000
DTSTAMP:20260420T191341
CREATED:20240128T175244Z
LAST-MODIFIED:20240128T175244Z
UID:3800-1719043200-1719162000@nsrca.fun
SUMMARY:4th Texas City Event
DESCRIPTION:Events 401\, 402\, 403\, 404 and FAI (F23 on Sunday) with 4 rounds on Saturday and 2 on Sunday. Flying will begin each day between 10:00 and 10:30 using sun dots and will be done on non-parallel flights lines to avoid potential midairs. Field open for practice on Friday at 10:00am. Trophies 1st – 3rd in each class. \nFree water both days for pilots and callers. \nRVs welcome\, but no hook-ups. Air conditioned clubhouse and clean restrooms \nPlease register at NSRCA.US site.
URL:https://nsrca.fun/event/4th-texas-city-event/
LOCATION:Texas City Radio Control Club\, 7500 N. Humble Camp Road\, Dickinson\, TX\, 77539\, United States
CATEGORIES:District 6
ATTACH;FMTTYPE=image/jpeg:/wp-content/uploads/2023/02/TCRCC-Logo-Color-Light.jpg
END:VEVENT
BEGIN:VEVENT
DTSTART;VALUE=DATE:20240629
DTEND;VALUE=DATE:20240701
DTSTAMP:20260420T191341
CREATED:20221218T195205Z
LAST-MODIFIED:20240331T121308Z
UID:1210-1719619200-1719791999@nsrca.fun
SUMMARY:RC Barnstormers Pattern Contest
DESCRIPTION:
URL:https://nsrca.fun/event/rc-barnstormers-pattern-contest/
LOCATION:R/C Barnstormers\, 11951 South Rene Street\, Olathe\, KS\, 66062\, United States
CATEGORIES:District 5
ATTACH;FMTTYPE=image/png:/wp-content/uploads/2022/12/RCLOGO.png
ORGANIZER;CN="Vicente 'Vince' Bortone":MAILTO:vincebrc@gmail.com
END:VEVENT
END:VCALENDAR