BEGIN:VCALENDAR
VERSION:2.0
PRODID:-//NSRCA F3A Pattern Event - ECPv6.5.1.5//NONSGML v1.0//EN
CALSCALE:GREGORIAN
METHOD:PUBLISH
X-WR-CALNAME:NSRCA F3A Pattern Event
X-ORIGINAL-URL:https://nsrca.fun
X-WR-CALDESC:Events for NSRCA F3A Pattern Event
REFRESH-INTERVAL;VALUE=DURATION:PT1H
X-Robots-Tag:noindex
X-PUBLISHED-TTL:PT1H
BEGIN:VTIMEZONE
TZID:America/New_York
BEGIN:DAYLIGHT
TZOFFSETFROM:-0500
TZOFFSETTO:-0400
TZNAME:EDT
DTSTART:20240310T070000
END:DAYLIGHT
BEGIN:STANDARD
TZOFFSETFROM:-0400
TZOFFSETTO:-0500
TZNAME:EST
DTSTART:20241103T060000
END:STANDARD
TZID:UTC
BEGIN:STANDARD
TZOFFSETFROM:+0000
TZOFFSETTO:+0000
TZNAME:UTC
DTSTART:20240101T000000
END:STANDARD
TZID:America/New_York
BEGIN:DAYLIGHT
TZOFFSETFROM:-0500
TZOFFSETTO:-0400
TZNAME:EDT
DTSTART:20240310T070000
END:DAYLIGHT
BEGIN:STANDARD
TZOFFSETFROM:-0400
TZOFFSETTO:-0500
TZNAME:EST
DTSTART:20241103T060000
END:STANDARD
END:VTIMEZONE
BEGIN:VEVENT
DTSTART;VALUE=DATE:20240503
DTEND;VALUE=DATE:20240506
DTSTAMP:20260419T211206
CREATED:20230220T200717Z
LAST-MODIFIED:20240425T155143Z
UID:2909-1714694400-1714953599@nsrca.fun
SUMMARY:Space City Pattern 2024
DESCRIPTION:New Date! \nField open on Friday for practice \nRV & Campers welcome\, $15 hook-up fee (electricity only) \nElectricity is avaialble\n$50 Entry Fee includes Saturday Lunch \nMore info: Matt Baccari 346-949-8990
URL:https://nsrca.fun/event/space-city-pattern-2023/
LOCATION:Space City RC Club\, 6332 Katy Hockley Rd\, Katy\, TX\, 77493\, United States
CATEGORIES:District 6
ATTACH;FMTTYPE=image/png:/wp-content/uploads/2023/02/SCRC_NewLogo.png
END:VEVENT
BEGIN:VEVENT
DTSTART;VALUE=DATE:20240518
DTEND;VALUE=DATE:20240519
DTSTAMP:20260419T211206
CREATED:20230128T134948Z
LAST-MODIFIED:20240117T202428Z
UID:2722-1715990400-1716076799@nsrca.fun
SUMMARY:Season Opener at BCAM
DESCRIPTION:Begineers welcome! \nPlease register at NSRCA.US \nCo CD is Sal Piu
URL:https://nsrca.fun/event/season-opener-at-bcam/
LOCATION:Beks County Aeromodelers\, 15402 Kutztown Road\, Kutztown\, 19530\, United States
CATEGORIES:District 1
ATTACH;FMTTYPE=image/png:/wp-content/uploads/2023/01/Screenshot-2024-01-17-at-3.20.51 PM.png
ORGANIZER;CN="Dale Hart":MAILTO:dalehart@dh-web.com
END:VEVENT
BEGIN:VEVENT
DTSTART;VALUE=DATE:20240518
DTEND;VALUE=DATE:20240519
DTSTAMP:20260419T211206
CREATED:20230211T152025Z
LAST-MODIFIED:20240117T171815Z
UID:2803-1715990400-1716076799@nsrca.fun
SUMMARY:Don Atwood Pattern Classic
DESCRIPTION:
URL:https://nsrca.fun/event/don-atwood-pattern-classic/
LOCATION:Sacramento Area Modelers\, 11000 florin Rd\, Sacramento\, CA\, United States
CATEGORIES:District 7
ATTACH;FMTTYPE=image/gif:/wp-content/uploads/2023/02/Sacramento.gif
ORGANIZER;CN="Russell Nichols":MAILTO:Russelljnichols@gmail.com
END:VEVENT
BEGIN:VEVENT
DTSTART;VALUE=DATE:20240518
DTEND;VALUE=DATE:20240520
DTSTAMP:20260419T211206
CREATED:20221218T195435Z
LAST-MODIFIED:20240204T220653Z
UID:1175-1715990400-1716163199@nsrca.fun
SUMMARY:Northern Kentucky Pattern Championship
DESCRIPTION:Please register at NSRCA.US
URL:https://nsrca.fun/event/northern-kentucky-pattern-championship/
LOCATION:Flying Cardinals\, 9062 River Rd\, Hebron\, KY\, 41048\, United States
CATEGORIES:District 4
ATTACH;FMTTYPE=image/jpeg:/wp-content/uploads/2022/12/800.jpeg
ORGANIZER;CN="David Johnstone":MAILTO:911.davej@gmail.com
END:VEVENT
BEGIN:VEVENT
DTSTART;VALUE=DATE:20240518
DTEND;VALUE=DATE:20240520
DTSTAMP:20260419T211206
CREATED:20230211T154031Z
LAST-MODIFIED:20240218T140737Z
UID:2808-1715990400-1716163199@nsrca.fun
SUMMARY:Gulf Coast Pattern Championship
DESCRIPTION:We will be using an offset flight line before 11am to ensure an earlier start and as many rounds as possible\nAMA Classes 401\, 402\, 403\, 404\, & 406; FAI should expect to fly F on Saturday and Sunday\nSportsman class (401) allowed to fly any AMA legal fixed wing aircraft (size\, sound and weight restrictions waived)\nNo sound\, size or weight checks\nRegistration Fee $50.00 (includes lunch on Saturday & Sunday)\nAwards to 3rd place in all classes\nPilots’ Safety meeting at 8:45am each day\, flying to being shortly thereafter\nConcrete runway and pilot stations\, an air-conditioned club house\, numerous 4X8 tables\, electricity and indoor restrooms\nLARKS is an FAA FRIA site. Please ensure you have completed your FAA TRUST Test and your aircraft is identified as required by the FAA\n\n\nThe field will be open for practice beginning Friday\, May 17th.\nRV parking available on site with 6 electrical hookups (1st come basis)\, $20 per day for hook ups\nMore than enough room for your self-contained camper or tent camping.\nField is fenced and gated\, call ahead if you plan to arrive before Friday morning and will need access\nMonroe Michaelis – CD – Cell (337) 853-6642; Patternflyer444774@yahoo.com\nSearch for Larksfield Rd\, Sulphur\, LA using your map app to find us\nThis is a great venue for new or nearly new Pattern pilots\n\nPlease register at NSRCA.US site.
URL:https://nsrca.fun/event/gulf-coast-pattern-championship/
LOCATION:LARKS\, Larksfield Rd\, Sulphur\, LA\, United States
CATEGORIES:District 6
ATTACH;FMTTYPE=image/png:/wp-content/uploads/2023/02/larks-3.png
ORGANIZER;CN="Monroe Michaelis":MAILTO:Patternflyer444774@yahoo.com
END:VEVENT
BEGIN:VEVENT
DTSTART;VALUE=DATE:20240518
DTEND;VALUE=DATE:20240520
DTSTAMP:20260419T211206
CREATED:20240117T170042Z
LAST-MODIFIED:20240120T163244Z
UID:3722-1715990400-1716163199@nsrca.fun
SUMMARY:Pattern Contest
DESCRIPTION:Mark your calendars\, Charlotte Aeromodelers\, has approved a pattern contest for May 18\, 19\, 2024. Friday will be open for practice. We have bathroom\, shower\, kitchen\, hook up for 30 amp and 20 amp service. Help us grow pattern here. Please contact me again now that it’s official as soon as you know.\nRick Harn(rharn47@gmail.com) 704-441-3860
URL:https://nsrca.fun/event/pattern-contest/
LOCATION:Charlotte Aeromodelers Flying Field\, 8613 Morgan Mill Rd\, Monroe\, NC\, 28110\, United States
CATEGORIES:District 2
ATTACH;FMTTYPE=image/png:/wp-content/uploads/2024/01/Screenshot-2024-01-17-at-11.56.46 AM.png
ORGANIZER;CN="Rick Harn":MAILTO:rharn47@gmail.com
END:VEVENT
BEGIN:VEVENT
DTSTART;VALUE=DATE:20240518
DTEND;VALUE=DATE:20240520
DTSTAMP:20260419T211206
CREATED:20240324T145213Z
LAST-MODIFIED:20240324T145213Z
UID:4112-1715990400-1716163199@nsrca.fun
SUMMARY:Fun in the Sun Pattern Contest
DESCRIPTION:This Pattern event will be held at the TCRMC club field in Richland\, Wa.  Classes 401\, 402\, 403\, 404 and FAI Silver will be offered.  First time Sportsman fly for free.  There will be a $50 entry fee and lunches will be available both days\, donation appreciated.  We will schedule a group dinner Saturday evening at a local restaurant.  Camping and RV spots are available\, no hookups available. Field available for practice on Friday.  Hope to see you at this season’s opening event!  Club website>  https://tcrmc.com/
URL:https://nsrca.fun/event/fun-in-the-sun-pattern-contest/
LOCATION:Tri Cities RC Modelers\, 5001 Beardsley Road\, Richland\, WA\, 99354\, United States
CATEGORIES:District 8
ATTACH;FMTTYPE=image/png:/wp-content/uploads/2024/03/Screenshot-2024-03-24-at-10.46.32 AM.png
ORGANIZER;CN="Gordon Anderson":MAILTO:gaa@owt.com
END:VEVENT
END:VCALENDAR