BEGIN:VCALENDAR
VERSION:2.0
PRODID:-//NSRCA F3A Pattern Event - ECPv6.5.1.5//NONSGML v1.0//EN
CALSCALE:GREGORIAN
METHOD:PUBLISH
X-ORIGINAL-URL:https://nsrca.fun
X-WR-CALDESC:Events for NSRCA F3A Pattern Event
REFRESH-INTERVAL;VALUE=DURATION:PT1H
X-Robots-Tag:noindex
X-PUBLISHED-TTL:PT1H
BEGIN:VTIMEZONE
TZID:America/New_York
BEGIN:DAYLIGHT
TZOFFSETFROM:-0500
TZOFFSETTO:-0400
TZNAME:EDT
DTSTART:20230312T070000
END:DAYLIGHT
BEGIN:STANDARD
TZOFFSETFROM:-0400
TZOFFSETTO:-0500
TZNAME:EST
DTSTART:20231105T060000
END:STANDARD
TZID:America/New_York
BEGIN:DAYLIGHT
TZOFFSETFROM:-0500
TZOFFSETTO:-0400
TZNAME:EDT
DTSTART:20230312T070000
END:DAYLIGHT
BEGIN:STANDARD
TZOFFSETFROM:-0400
TZOFFSETTO:-0500
TZNAME:EST
DTSTART:20231105T060000
END:STANDARD
TZID:UTC
BEGIN:STANDARD
TZOFFSETFROM:+0000
TZOFFSETTO:+0000
TZNAME:UTC
DTSTART:20230101T000000
END:STANDARD
END:VTIMEZONE
BEGIN:VEVENT
DTSTART;VALUE=DATE:20230603
DTEND;VALUE=DATE:20230605
DTSTAMP:20260419T211225
CREATED:20230220T025201Z
LAST-MODIFIED:20230415T163208Z
UID:2900-1685750400-1685923199@nsrca.fun
SUMMARY:Coastal Plains Pattern Classic
DESCRIPTION:All AMA Classes including FAI \n$30 Entry $10 for Sportsman\, includes lunch on Sat and awards 1st-3r \nPrimitive Camping on site \nfield open Friday for Practice
URL:https://nsrca.fun/event/crystal-coast-pattern-classic/
LOCATION:Kinston Aero-Modelers\, 207 Airport Rd\, Kinston\, NC\, 28504\, United States
CATEGORIES:District 2
ATTACH;FMTTYPE=image/png:/wp-content/uploads/2023/02/Kingston.png
ORGANIZER;CN="Carl Zavalney":MAILTO:carlzavalney@yahoo.com
END:VEVENT
BEGIN:VEVENT
DTSTART;VALUE=DATE:20230603
DTEND;VALUE=DATE:20230604
DTSTAMP:20260419T211225
CREATED:20230211T155757Z
LAST-MODIFIED:20230425T232007Z
UID:2818-1685750400-1685836799@nsrca.fun
SUMMARY:High Desert Pattern Classic
DESCRIPTION:
URL:https://nsrca.fun/event/high-desert-pattern-classic/
LOCATION:Field of Dreams\, Redmond\, OR\, 97756\, United States
CATEGORIES:District 8
ATTACH;FMTTYPE=image/gif:/wp-content/uploads/2023/02/Field-of-Dream.gif
ORGANIZER;CN="Rex Lesher":MAILTO:trexlesh@msn.com
END:VEVENT
BEGIN:VEVENT
DTSTART;VALUE=DATE:20230603
DTEND;VALUE=DATE:20230605
DTSTAMP:20260419T211225
CREATED:20230601T164846Z
LAST-MODIFIED:20230601T165125Z
UID:3046-1685750400-1685923199@nsrca.fun
SUMMARY:Napa Valley Pattern Classic
DESCRIPTION:Visit the Wine Country at the Napa Valley Pattern Classic. It’s a great time of the year in Napa and Sonoma bring your spouse/significant other and make a mini-vacation. \nSportsman\, Intermediate\, Advanced\, FAI and FAI Silver if desired. \nRegistration $40 at the filed\, starting at 7:00AM Wheels up at 9:00 am. \npractice – Frida all day\, Saturday morning Dawn until start. \n6 Rounds \nOvernight camping – No hook ups\, lots of dry grass\, so use care with barbecues\, etc. no open fires.
URL:https://nsrca.fun/event/napa-valley-pattern-classic/
LOCATION:North Bay R/C\, 28020 Skaggs Island Rd\, Sonoma\, CA\, 95476\, United States
CATEGORIES:District 7
ATTACH;FMTTYPE=image/png:/wp-content/uploads/2023/06/Screenshot-2023-06-01-at-12.40.18-PM.png
ORGANIZER;CN="Lawrence Tougas":MAILTO:ama.district10@gmail.com
END:VEVENT
BEGIN:VEVENT
DTSTART;VALUE=DATE:20230609
DTEND;VALUE=DATE:20230612
DTSTAMP:20260419T211225
CREATED:20221218T195404Z
LAST-MODIFIED:20230219T225229Z
UID:1178-1686268800-1686527999@nsrca.fun
SUMMARY:Flying Tigers Pattern Contest 2023
DESCRIPTION:
URL:https://nsrca.fun/event/flying-tigers-pattern-contest-2023/
LOCATION:Mid Missouri Radio Control Association\, 2810 E Coats Lane\, Columbia\, MO\, United States
CATEGORIES:District 5
ATTACH;FMTTYPE=image/jpeg:/wp-content/uploads/2022/12/Tiger.jpg
ORGANIZER;CN="Jeff Buchner":MAILTO:jbuchner5@gmail.com
END:VEVENT
BEGIN:VEVENT
DTSTART;VALUE=DATE:20230616
DTEND;VALUE=DATE:20230619
DTSTAMP:20260419T211225
CREATED:20230226T215257Z
LAST-MODIFIED:20230226T215257Z
UID:2930-1686873600-1687132799@nsrca.fun
SUMMARY:Peach Pattern Classic
DESCRIPTION:The Peach Pattern Classic will be held on June 17th and 18th at Hodges Field\, 428 Neil Hodges Rd in Andersonville\, GA. Entry Fee includes Saturday lunch. All AMA classes will be flown as well as F3A and club class. Field will be open for practice on Friday. No jets this year.
URL:https://nsrca.fun/event/peach-pattern-classic/
LOCATION:Hodges Hobbies\, 428 Neil Hodges rd.\, Andersonville\, GA\, 31711\, United States
CATEGORIES:District 3
ATTACH;FMTTYPE=image/jpeg:/wp-content/uploads/2023/02/Hodges.jpeg
ORGANIZER;CN="Rob Campbell":MAILTO:rgc1701@gmail.com
END:VEVENT
END:VCALENDAR