BEGIN:VCALENDAR
VERSION:2.0
PRODID:-//NSRCA F3A Pattern Event - ECPv6.5.1.5//NONSGML v1.0//EN
CALSCALE:GREGORIAN
METHOD:PUBLISH
X-WR-CALNAME:NSRCA F3A Pattern Event
X-ORIGINAL-URL:https://nsrca.fun
X-WR-CALDESC:Events for NSRCA F3A Pattern Event
REFRESH-INTERVAL;VALUE=DURATION:PT1H
X-Robots-Tag:noindex
X-PUBLISHED-TTL:PT1H
BEGIN:VTIMEZONE
TZID:UTC
BEGIN:STANDARD
TZOFFSETFROM:+0000
TZOFFSETTO:+0000
TZNAME:UTC
DTSTART:20230101T000000
END:STANDARD
END:VTIMEZONE
BEGIN:VEVENT
DTSTART;VALUE=DATE:20240729
DTEND;VALUE=DATE:20240803
DTSTAMP:20260421T043627
CREATED:20221202T213333Z
LAST-MODIFIED:20240207T070122Z
UID:624-1722211200-1722643199@nsrca.fun
SUMMARY:NATS
DESCRIPTION:Save the date!!!! \n  \n 
URL:https://nsrca.fun/event/nats/
LOCATION:AMA\, 5161 E Memorial Dr\, Muncie\, Indiana\, 47302\, United States
CATEGORIES:Canada,District 1,District 2,District 3,District 4,District 5,District 6,District 7,District 8,F3P
ATTACH;FMTTYPE=image/png:/wp-content/uploads/2022/12/Screenshot-2024-02-07-at-5.59.54 PM.png
END:VEVENT
BEGIN:VEVENT
DTSTART;VALUE=DATE:20230114
DTEND;VALUE=DATE:20230115
DTSTAMP:20260421T043627
CREATED:20221218T195245Z
LAST-MODIFIED:20221221T200546Z
UID:1187-1673654400-1673740799@nsrca.fun
SUMMARY:The International Indoor F3P
DESCRIPTION:
URL:https://nsrca.fun/event/the-international-indoor-f3p/
LOCATION:Red River R/C Flyers
CATEGORIES:District 5,F3P
ATTACH;FMTTYPE=image/jpeg:/wp-content/uploads/2022/12/F3P-1.jpeg
ORGANIZER;CN="Brian Dorff":MAILTO:bluebaronbrian@gmail.com
END:VEVENT
END:VCALENDAR