BEGIN:VCALENDAR
VERSION:2.0
PRODID:-//NSRCA F3A Pattern Event - ECPv6.5.1.5//NONSGML v1.0//EN
CALSCALE:GREGORIAN
METHOD:PUBLISH
X-ORIGINAL-URL:https://nsrca.fun
X-WR-CALDESC:Events for NSRCA F3A Pattern Event
REFRESH-INTERVAL;VALUE=DURATION:PT1H
X-Robots-Tag:noindex
X-PUBLISHED-TTL:PT1H
BEGIN:VTIMEZONE
TZID:America/New_York
BEGIN:DAYLIGHT
TZOFFSETFROM:-0500
TZOFFSETTO:-0400
TZNAME:EDT
DTSTART:20240310T070000
END:DAYLIGHT
BEGIN:STANDARD
TZOFFSETFROM:-0400
TZOFFSETTO:-0500
TZNAME:EST
DTSTART:20241103T060000
END:STANDARD
END:VTIMEZONE
BEGIN:VEVENT
DTSTART;VALUE=DATE:20240406
DTEND;VALUE=DATE:20240408
DTSTAMP:20260422T093545
CREATED:20230215T225101Z
LAST-MODIFIED:20240120T164200Z
UID:2854-1712361600-1712534399@nsrca.fun
SUMMARY:2024 OCMA Woodward Memorial Pattern Challenge
DESCRIPTION:Pattern information available at the National Society of Radio Controlled Aerobatics http://www.nsrca.us/index.php/sequences \nAMA Membership and FAA Registration Required \nSportsman\, Intermediate\, Advanced\, Masters\, FAI Silver\, FAI P23 & F23\,  and D7 EDF Jet Pattern (6S Power Limit).  Juniors enter Free!! \nLunch will be available for a fee.  Water will be provided. \nField open for practice noon Friday 3/31 \nPilots Meeting: 8:30am \nWheels Up: 9:30am.   \nNO SMOKING \nOnSite Camping for up to 5 RV’s/Trailers.  First come first serve.  Email shannah1806@gmail.com if you want to reserve a spot. \nPlease register at NSRCA.US Site.
URL:https://nsrca.fun/event/2023-ocma-woodward-memorial-pattern-challenge/
LOCATION:OCMA Bob Swenson Memorial Field\, 5305 Santiago Canyon Rd\, Silverado\, CA\, United States
CATEGORIES:District 7
ATTACH;FMTTYPE=image/jpeg:/wp-content/uploads/2023/02/OCMALOGOCL_small.jpeg
ORGANIZER;CN="Steve Hannah":MAILTO:shannah1806@gmail.com
END:VEVENT
END:VCALENDAR