BEGIN:VCALENDAR
VERSION:2.0
PRODID:-//NSRCA F3A Pattern Event - ECPv6.5.1.5//NONSGML v1.0//EN
CALSCALE:GREGORIAN
METHOD:PUBLISH
X-ORIGINAL-URL:https://nsrca.fun
X-WR-CALDESC:Events for NSRCA F3A Pattern Event
REFRESH-INTERVAL;VALUE=DURATION:PT1H
X-Robots-Tag:noindex
X-PUBLISHED-TTL:PT1H
BEGIN:VTIMEZONE
TZID:America/New_York
BEGIN:DAYLIGHT
TZOFFSETFROM:-0500
TZOFFSETTO:-0400
TZNAME:EDT
DTSTART:20240310T070000
END:DAYLIGHT
BEGIN:STANDARD
TZOFFSETFROM:-0400
TZOFFSETTO:-0500
TZNAME:EST
DTSTART:20241103T060000
END:STANDARD
END:VTIMEZONE
BEGIN:VEVENT
DTSTART;VALUE=DATE:20240316
DTEND;VALUE=DATE:20240318
DTSTAMP:20260422T112442
CREATED:20230211T145358Z
LAST-MODIFIED:20240120T162101Z
UID:2798-1710547200-1710719999@nsrca.fun
SUMMARY:Harry Gould Memorial Pattern Contest
DESCRIPTION:Harry Gould Memorial Pattern Contest – All classes will be flown along with FAI Silver\, if we don’t have more than 7 pilots in Masters and FAI Silver\, we will only offer Masters.  Lunch will be available for a nominal fee\, Dry Camping available at the field.  See attached Flyer for more information.  Contact CD Bill Wallace with any questions.  Cell – 951-385-2605. \nPlease register at NSRCA.US
URL:https://nsrca.fun/event/harry-gould-memoria/
LOCATION:Hemet Model Masters\, Olive Ave\, Hemet\, CA\, United States
CATEGORIES:District 7
ATTACH;FMTTYPE=image/png:/wp-content/uploads/2023/02/Hemet.png
ORGANIZER;CN="William T. Wallace":MAILTO:bill.wallace5547@gmail.com
END:VEVENT
END:VCALENDAR