BEGIN:VCALENDAR
VERSION:2.0
PRODID:-//NSRCA F3A Pattern Event - ECPv6.5.1.5//NONSGML v1.0//EN
CALSCALE:GREGORIAN
METHOD:PUBLISH
X-ORIGINAL-URL:https://nsrca.fun
X-WR-CALDESC:Events for NSRCA F3A Pattern Event
REFRESH-INTERVAL;VALUE=DURATION:PT1H
X-Robots-Tag:noindex
X-PUBLISHED-TTL:PT1H
BEGIN:VTIMEZONE
TZID:America/New_York
BEGIN:DAYLIGHT
TZOFFSETFROM:-0500
TZOFFSETTO:-0400
TZNAME:EDT
DTSTART:20240310T070000
END:DAYLIGHT
BEGIN:STANDARD
TZOFFSETFROM:-0400
TZOFFSETTO:-0500
TZNAME:EST
DTSTART:20241103T060000
END:STANDARD
END:VTIMEZONE
BEGIN:VEVENT
DTSTART;VALUE=DATE:20240217
DTEND;VALUE=DATE:20240218
DTSTAMP:20260422T125835
CREATED:20240206T041255Z
LAST-MODIFIED:20240206T041255Z
UID:3862-1708128000-1708214399@nsrca.fun
SUMMARY:2024 So. Cal Classic Pattern and EDF Season Opener
DESCRIPTION:Come out and enjoy pattern flying the way it should be – fun!\nEntry fee: $35 (Classic or EDF)\, $40 (Classic & EDF)\nLunch included!!! Hector’s excellent tacos!!! Don’t Miss!!! \nPlease register at NSRCA.US site
URL:https://nsrca.fun/event/2024-so-cal-classic-pattern-and-edf-season-opener/
LOCATION:Bear Moutain Flyers\, 8712 Sycamore Rd #8144\, Arvin\, CA\, 93203\, United States
CATEGORIES:District 7
ATTACH;FMTTYPE=image/png:/wp-content/uploads/2023/03/Screenshot-2024-02-06-at-3.06.32 PM.png
ORGANIZER;CN="Robert Fish":MAILTO:akmotov@pacbell.net
END:VEVENT
END:VCALENDAR