BEGIN:VCALENDAR
VERSION:2.0
PRODID:-//NSRCA F3A Pattern Event - ECPv6.5.1.5//NONSGML v1.0//EN
CALSCALE:GREGORIAN
METHOD:PUBLISH
X-ORIGINAL-URL:https://nsrca.fun
X-WR-CALDESC:Events for NSRCA F3A Pattern Event
REFRESH-INTERVAL;VALUE=DURATION:PT1H
X-Robots-Tag:noindex
X-PUBLISHED-TTL:PT1H
BEGIN:VTIMEZONE
TZID:America/New_York
BEGIN:DAYLIGHT
TZOFFSETFROM:-0500
TZOFFSETTO:-0400
TZNAME:EDT
DTSTART:20240310T070000
END:DAYLIGHT
BEGIN:STANDARD
TZOFFSETFROM:-0400
TZOFFSETTO:-0500
TZNAME:EST
DTSTART:20241103T060000
END:STANDARD
END:VTIMEZONE
BEGIN:VEVENT
DTSTART;TZID=America/New_York:20240127T080000
DTEND;TZID=America/New_York:20240127T170000
DTSTAMP:20260422T142416
CREATED:20240117T212927Z
LAST-MODIFIED:20240117T212927Z
UID:3746-1706342400-1706374800@nsrca.fun
SUMMARY:2nd Annula NSRCA D7 Pattern Camp
DESCRIPTION:Mark your calendar and join us for the NSRCA D7 Pattern Camp hosted by the Bear Mountain Flyers at one of Southern California’s \npremier flying facilities. We will have several self-contained Proton Control Systems’ Pathfinder Flight Loggers available to mount in \nyour airplane so that you can fly YOUR sequence with YOUR airplane and see YOUR data immediately after the flight. Skilled \noperators will be available to help you with resolving any issues you may be having with your data logger or assist you in using our \nProton Loggers if you don’t have your own. Also\, Jon Carter will be conducting a Judging Seminar for the new sequences using \nactual data from a flight flown in front of everyone at the beginning of the Seminar. At the conclusion of the Judging Seminar\, we \nwill resume open flying with the Pathfinder Flight Loggers. \n• Event Fee: $20 • Registration Opens: 8 AM \n• Flight Coach Clinic: 9 AM • Judging Seminar: 12 PM \n• AMA membership is required. Overnight RV camping is available; \nlimited electrical hook-ups. The field will be open Friday – \nSunday for anyone who wishes to stay the weekend and practice. \n• Lunch on Saturday is included in the Event Fee (likely Costco \ncroissant sandwiches\, chips\, and water/sodas). \n• A $1 raffle of a data logger may be conducted (attendance not
URL:https://nsrca.fun/event/2nd-annula-nsrca-d7-pattern-camp/
LOCATION:Bear Moutain Flyers\, 8712 Sycamore Rd #8144\, Arvin\, CA\, 93203\, United States
CATEGORIES:District 7
ATTACH;FMTTYPE=image/jpeg:/wp-content/uploads/2024/01/2024-Pattern-Camp-Flyer.jpg
ORGANIZER;CN="Jerry Budd":MAILTO:jerry@buddengineering.com
END:VEVENT
END:VCALENDAR