BEGIN:VCALENDAR
VERSION:2.0
PRODID:-//NSRCA F3A Pattern Event - ECPv6.5.1.5//NONSGML v1.0//EN
CALSCALE:GREGORIAN
METHOD:PUBLISH
X-WR-CALNAME:NSRCA F3A Pattern Event
X-ORIGINAL-URL:https://nsrca.fun
X-WR-CALDESC:Events for NSRCA F3A Pattern Event
REFRESH-INTERVAL;VALUE=DURATION:PT1H
X-Robots-Tag:noindex
X-PUBLISHED-TTL:PT1H
BEGIN:VTIMEZONE
TZID:America/New_York
BEGIN:DAYLIGHT
TZOFFSETFROM:-0500
TZOFFSETTO:-0400
TZNAME:EDT
DTSTART:20240310T070000
END:DAYLIGHT
BEGIN:STANDARD
TZOFFSETFROM:-0400
TZOFFSETTO:-0500
TZNAME:EST
DTSTART:20241103T060000
END:STANDARD
END:VTIMEZONE
BEGIN:VEVENT
DTSTART;VALUE=DATE:20240914
DTEND;VALUE=DATE:20240916
DTSTAMP:20260417T100034
CREATED:20230217T053439Z
LAST-MODIFIED:20240120T162630Z
UID:2870-1726272000-1726444799@nsrca.fun
SUMMARY:Fort Bend RC Pattern Contest
DESCRIPTION:AMA Classes 401\, 402\, 403\, 404\, and 406 P/F.\nSportsman class is permitted to fly any AMA legal airplane.\nPattern noise rules are waived.\nPilot Meeting is at 10:30am Sat & Sun. Field is open for practice Friday.\nTrophy awarded to 1St thru 3rd places each class.\nTwo paved runways (830’×50′ N-S and 520’x50° EW). N-S runway is used for contest. Air-conditioned club house. Covered Pavilion\, work tables with electricity\, picnic tables. Plenty of space for parking and RV camping (sorry\, no hookups for RV’s). Men’s & Lady’s restrooms with flush toilet.\nContact: Heedo Yun (CD) 281-512-9163\, Earl Haury 281-782-9909\, Sheldon Reyher 281-961-0419\, or James (Club Secretary) 832-729-1373\nClub is located at Rosenberg/US-59 about 15 miles SW of Houston\, Texas.\nThere are many hotels and dining at US-36/US-59.\n\nPlease register at NSRCA.US site.
URL:https://nsrca.fun/event/fort-bend-rc-pattern-contest/
LOCATION:Fort Bend RC Pattern Contest\, 125 Klauke Rd\, Rosenberg\, TX\, 77471\, United States
CATEGORIES:District 6
ATTACH;FMTTYPE=image/webp:/wp-content/uploads/2023/02/Fort-Bend.webp
ORGANIZER;CN="Heedo Yun":MAILTO:heedo.yun@gmail.com
END:VEVENT
END:VCALENDAR