BEGIN:VCALENDAR
VERSION:2.0
PRODID:-//NSRCA F3A Pattern Event - ECPv6.5.1.5//NONSGML v1.0//EN
CALSCALE:GREGORIAN
METHOD:PUBLISH
X-WR-CALNAME:NSRCA F3A Pattern Event
X-ORIGINAL-URL:https://nsrca.fun
X-WR-CALDESC:Events for NSRCA F3A Pattern Event
REFRESH-INTERVAL;VALUE=DURATION:PT1H
X-Robots-Tag:noindex
X-PUBLISHED-TTL:PT1H
BEGIN:VTIMEZONE
TZID:America/New_York
BEGIN:DAYLIGHT
TZOFFSETFROM:-0500
TZOFFSETTO:-0400
TZNAME:EDT
DTSTART:20240310T070000
END:DAYLIGHT
BEGIN:STANDARD
TZOFFSETFROM:-0400
TZOFFSETTO:-0500
TZNAME:EST
DTSTART:20241103T060000
END:STANDARD
END:VTIMEZONE
BEGIN:VEVENT
DTSTART;VALUE=DATE:20241102
DTEND;VALUE=DATE:20241104
DTSTAMP:20260423T103238
CREATED:20240206T220738Z
LAST-MODIFIED:20241031T040257Z
UID:3887-1730505600-1730678399@nsrca.fun
SUMMARY:Jacksonville Pattern Contest
DESCRIPTION:Please register at the NSRCA.US site.
URL:https://nsrca.fun/event/jacksonville-pattern-contest/
LOCATION:Gateway RC club of Jacksonville\, 3461 Lannie Rd\, Jacksonville\, FL\, United States
CATEGORIES:District 3
ATTACH;FMTTYPE=image/jpeg:/wp-content/uploads/2023/02/1B8383BD-4DE2-4DF4-960B-81D5579D87CA.jpeg
ORGANIZER;CN="James  Hannah":MAILTO:hardwaydaniel@outlook.com
END:VEVENT
END:VCALENDAR