BEGIN:VCALENDAR
VERSION:2.0
PRODID:-//NSRCA F3A Pattern Event - ECPv6.5.1.5//NONSGML v1.0//EN
CALSCALE:GREGORIAN
METHOD:PUBLISH
X-WR-CALNAME:NSRCA F3A Pattern Event
X-ORIGINAL-URL:https://nsrca.fun
X-WR-CALDESC:Events for NSRCA F3A Pattern Event
REFRESH-INTERVAL;VALUE=DURATION:PT1H
X-Robots-Tag:noindex
X-PUBLISHED-TTL:PT1H
BEGIN:VTIMEZONE
TZID:America/New_York
BEGIN:DAYLIGHT
TZOFFSETFROM:-0500
TZOFFSETTO:-0400
TZNAME:EDT
DTSTART:20240310T070000
END:DAYLIGHT
BEGIN:STANDARD
TZOFFSETFROM:-0400
TZOFFSETTO:-0500
TZNAME:EST
DTSTART:20241103T060000
END:STANDARD
END:VTIMEZONE
BEGIN:VEVENT
DTSTART;VALUE=DATE:20240209
DTEND;VALUE=DATE:20240212
DTSTAMP:20260424T040358
CREATED:20240111T133202Z
LAST-MODIFIED:20240111T133202Z
UID:3687-1707436800-1707695999@nsrca.fun
SUMMARY:Team USA Charity Pattern Contest
DESCRIPTION:This is a charity event for Team USA F3A team\, all proceeds will be donated to the team! \nCome out and compete and help support another Team USA victory in 2025! \nPlease register at the NSRCA.US site.
URL:https://nsrca.fun/event/team-usa-charity-pattern-contest-2/
LOCATION:Gateway RC club of Jacksonville\, 3461 Lannie Rd\, Jacksonville\, FL\, United States
CATEGORIES:District 3
ATTACH;FMTTYPE=image/png:/wp-content/uploads/2024/01/Screenshot-2024-01-11-at-8.31.24 AM.png
ORGANIZER;CN="James  Hannah":MAILTO:hardwaydaniel@outlook.com
END:VEVENT
END:VCALENDAR