BEGIN:VCALENDAR
VERSION:2.0
PRODID:-//NSRCA F3A Pattern Event - ECPv6.5.1.5//NONSGML v1.0//EN
CALSCALE:GREGORIAN
METHOD:PUBLISH
X-ORIGINAL-URL:https://nsrca.fun
X-WR-CALDESC:Events for NSRCA F3A Pattern Event
REFRESH-INTERVAL;VALUE=DURATION:PT1H
X-Robots-Tag:noindex
X-PUBLISHED-TTL:PT1H
BEGIN:VTIMEZONE
TZID:America/New_York
BEGIN:DAYLIGHT
TZOFFSETFROM:-0500
TZOFFSETTO:-0400
TZNAME:EDT
DTSTART:20240310T070000
END:DAYLIGHT
BEGIN:STANDARD
TZOFFSETFROM:-0400
TZOFFSETTO:-0500
TZNAME:EST
DTSTART:20241103T060000
END:STANDARD
END:VTIMEZONE
BEGIN:VEVENT
DTSTART;VALUE=DATE:20240914
DTEND;VALUE=DATE:20240916
DTSTAMP:20260425T105225
CREATED:20240204T214812Z
LAST-MODIFIED:20240204T215124Z
UID:3821-1726272000-1726444799@nsrca.fun
SUMMARY:FARM Pattern Event
DESCRIPTION:Please register at NSRCA.US
URL:https://nsrca.fun/event/farm-pattern-event/
LOCATION:Farm\, 5350 Savannah Branch Rd\, Bealeton\, 22712\, United States
CATEGORIES:District 2
ATTACH;FMTTYPE=image/png:/wp-content/uploads/2024/02/Screenshot-2024-02-05-at-8.47.12 AM.png
ORGANIZER;CN="Don Szczur":MAILTO:dszczur@verizon.net
END:VEVENT
END:VCALENDAR