BEGIN:VCALENDAR
VERSION:2.0
PRODID:-//NSRCA F3A Pattern Event - ECPv6.5.1.5//NONSGML v1.0//EN
CALSCALE:GREGORIAN
METHOD:PUBLISH
X-ORIGINAL-URL:https://nsrca.fun
X-WR-CALDESC:Events for NSRCA F3A Pattern Event
REFRESH-INTERVAL;VALUE=DURATION:PT1H
X-Robots-Tag:noindex
X-PUBLISHED-TTL:PT1H
BEGIN:VTIMEZONE
TZID:America/New_York
BEGIN:DAYLIGHT
TZOFFSETFROM:-0500
TZOFFSETTO:-0400
TZNAME:EDT
DTSTART:20240310T070000
END:DAYLIGHT
BEGIN:STANDARD
TZOFFSETFROM:-0400
TZOFFSETTO:-0500
TZNAME:EST
DTSTART:20241103T060000
END:STANDARD
END:VTIMEZONE
BEGIN:VEVENT
DTSTART;VALUE=DATE:20241109
DTEND;VALUE=DATE:20241111
DTSTAMP:20260416T163515
CREATED:20230810T155818Z
LAST-MODIFIED:20241031T040403Z
UID:3248-1731110400-1731283199@nsrca.fun
SUMMARY:Bomber F3A Competition
DESCRIPTION:Due to weather\, this contest was rescheduled from Nov 2 & 3 and will now be held on Nov 9 & 10. \nField open on Friday for practice \nRV and Campers Welcome (hook-up $30 per night) \nFAI will fly P-25 Only \nAny AMA legal plane under 20lb can fly Sportsman \nElectricity and ample cover is available \nPilots meeting at 9:30 am \nFor more information contact Michael Johncock 281 757-2177 \nPlease register at NSRCA.US site.
URL:https://nsrca.fun/event/f3a-competition/
LOCATION:Bomber Field\, 13917 FM 1887\, Hemptstead\, TX\, 77445\, United States
CATEGORIES:District 6
ATTACH;FMTTYPE=image/png:/wp-content/uploads/2023/08/Screenshot-2023-08-10-at-11.55.53-AM.png
END:VEVENT
END:VCALENDAR