BEGIN:VCALENDAR
VERSION:2.0
PRODID:-//NSRCA F3A Pattern Event - ECPv6.5.1.5//NONSGML v1.0//EN
CALSCALE:GREGORIAN
METHOD:PUBLISH
X-WR-CALNAME:NSRCA F3A Pattern Event
X-ORIGINAL-URL:https://nsrca.fun
X-WR-CALDESC:Events for NSRCA F3A Pattern Event
REFRESH-INTERVAL;VALUE=DURATION:PT1H
X-Robots-Tag:noindex
X-PUBLISHED-TTL:PT1H
BEGIN:VTIMEZONE
TZID:America/Nome
BEGIN:DAYLIGHT
TZOFFSETFROM:-0900
TZOFFSETTO:-0800
TZNAME:AKDT
DTSTART:20240310T110000
END:DAYLIGHT
BEGIN:STANDARD
TZOFFSETFROM:-0800
TZOFFSETTO:-0900
TZNAME:AKST
DTSTART:20241103T100000
END:STANDARD
END:VTIMEZONE
BEGIN:VEVENT
DTSTART;VALUE=DATE:20241012
DTEND;VALUE=DATE:20241014
DTSTAMP:20260420T211553
CREATED:20230801T234334Z
LAST-MODIFIED:20240120T162756Z
UID:3222-1728691200-1728863999@nsrca.fun
SUMMARY:Cajun Nationals - 17th Annual
DESCRIPTION:2 day format for 2023 \n. Pilots & family Banquet Saturday \n. Classes: 401 thru 404 & FAI (406) – any AMA legal plane less than 20# can fly Sportsman \n. Concessions available at the field by Chef Tim Landry\, including morning Beignets and inspired concessions. \n. Pilots meeting at 10:00 am Saturday – field opens Thursday Oct 15th for practice \n. Parking for RVs available (primitive only) – Bring your generator as the field does not have electricity \n. The RAMS club fields is located 1.7 miles north of the I-10 East Crowley (Exit 82)\, with the field entrance on the left \nPlease register at NSRCA.US site.
URL:https://nsrca.fun/event/cajun-nationals-17th-annual/
LOCATION:RAMS\, 1059 Tower Rd\, Crowley\, LA\, United States
CATEGORIES:District 6
ATTACH;FMTTYPE=image/png:/wp-content/uploads/2023/08/Screenshot-2023-08-01-at-7.31.09-PM.png
END:VEVENT
END:VCALENDAR