BEGIN:VCALENDAR
VERSION:2.0
PRODID:-//NSRCA F3A Pattern Event - ECPv6.5.1.5//NONSGML v1.0//EN
CALSCALE:GREGORIAN
METHOD:PUBLISH
X-WR-CALNAME:NSRCA F3A Pattern Event
X-ORIGINAL-URL:https://nsrca.fun
X-WR-CALDESC:Events for NSRCA F3A Pattern Event
REFRESH-INTERVAL;VALUE=DURATION:PT1H
X-Robots-Tag:noindex
X-PUBLISHED-TTL:PT1H
BEGIN:VTIMEZONE
TZID:UTC
BEGIN:STANDARD
TZOFFSETFROM:+0000
TZOFFSETTO:+0000
TZNAME:UTC
DTSTART:20240101T000000
END:STANDARD
END:VTIMEZONE
BEGIN:VEVENT
DTSTART;VALUE=DATE:20240913
DTEND;VALUE=DATE:20240916
DTSTAMP:20260420T211755
CREATED:20221218T195350Z
LAST-MODIFIED:20240331T122053Z
UID:1206-1726185600-1726444799@nsrca.fun
SUMMARY:Tamarack Challenge
DESCRIPTION:
URL:https://nsrca.fun/event/tamarack-challenge/
LOCATION:Flying Electrons RC Flying Club\, Menomonee Falls\, WI\, 53052\, United States
CATEGORIES:District 5
ATTACH;FMTTYPE=image/webp:/wp-content/uploads/2022/12/Electrons.webp
ORGANIZER;CN="Joe Burzinski":MAILTO:burzinskijoe@gmail.com
END:VEVENT
END:VCALENDAR