BEGIN:VCALENDAR
VERSION:2.0
PRODID:-//NSRCA F3A Pattern Event - ECPv6.5.1.5//NONSGML v1.0//EN
CALSCALE:GREGORIAN
METHOD:PUBLISH
X-ORIGINAL-URL:https://nsrca.fun
X-WR-CALDESC:Events for NSRCA F3A Pattern Event
REFRESH-INTERVAL;VALUE=DURATION:PT1H
X-Robots-Tag:noindex
X-PUBLISHED-TTL:PT1H
BEGIN:VTIMEZONE
TZID:America/New_York
BEGIN:DAYLIGHT
TZOFFSETFROM:-0500
TZOFFSETTO:-0400
TZNAME:EDT
DTSTART:20240310T070000
END:DAYLIGHT
BEGIN:STANDARD
TZOFFSETFROM:-0400
TZOFFSETTO:-0500
TZNAME:EST
DTSTART:20241103T060000
END:STANDARD
END:VTIMEZONE
BEGIN:VEVENT
DTSTART;VALUE=DATE:20240823
DTEND;VALUE=DATE:20240826
DTSTAMP:20260423T151840
CREATED:20230215T230620Z
LAST-MODIFIED:20240120T163731Z
UID:2859-1724371200-1724630399@nsrca.fun
SUMMARY:LAMA Colorado Pattern
DESCRIPTION:Entry Fees: $35 entry fee. $10 for Club class or other first time pattern entrants. \nSaturday lunch included in entry fee. \nIf you can only come 1 day\, you probably won’t win\, but we still want you to fly! \nAMA membership required – bring your card! \nEvents: (please pre-register at www.nsrca.us or email me if you think you’ll attend) \n\nAll AMA Pattern classes (Sportsman\, Intermediate\, Advanced\, Masters)\nClub Class (if interest warrants): This will be a Non-Judged class. We will hook you up with a caller/coach for each flight. Give Pattern a try! sequence at www.NSRCA.us\nMasters will fly P25 with judged takeoffs and landings\nFAI will fly:(P25 and F25).\nNo EDF this year\nPlease register at the NSRCA.US site.
URL:https://nsrca.fun/event/lama-colorado-pattern/
LOCATION:LAMA Club Field\, 3620 County Rd 15\, Dacono\, CO\, 80603\, United States
CATEGORIES:District 5
ATTACH;FMTTYPE=image/jpeg:/wp-content/uploads/2023/02/5638.jpeg
ORGANIZER;CN="Dan Underkofler":MAILTO:underdw@gmail.com
END:VEVENT
END:VCALENDAR