BEGIN:VCALENDAR
VERSION:2.0
PRODID:-//NSRCA F3A Pattern Event - ECPv6.5.1.5//NONSGML v1.0//EN
CALSCALE:GREGORIAN
METHOD:PUBLISH
X-WR-CALNAME:NSRCA F3A Pattern Event
X-ORIGINAL-URL:https://nsrca.fun
X-WR-CALDESC:Events for NSRCA F3A Pattern Event
REFRESH-INTERVAL;VALUE=DURATION:PT1H
X-Robots-Tag:noindex
X-PUBLISHED-TTL:PT1H
BEGIN:VTIMEZONE
TZID:UTC
BEGIN:STANDARD
TZOFFSETFROM:+0000
TZOFFSETTO:+0000
TZNAME:UTC
DTSTART:20240101T000000
END:STANDARD
TZID:America/New_York
BEGIN:DAYLIGHT
TZOFFSETFROM:-0500
TZOFFSETTO:-0400
TZNAME:EDT
DTSTART:20240310T070000
END:DAYLIGHT
BEGIN:STANDARD
TZOFFSETFROM:-0400
TZOFFSETTO:-0500
TZNAME:EST
DTSTART:20241103T060000
END:STANDARD
END:VTIMEZONE
BEGIN:VEVENT
DTSTART;VALUE=DATE:20240816
DTEND;VALUE=DATE:20240819
DTSTAMP:20260420T053951
CREATED:20221218T195221Z
LAST-MODIFIED:20240331T121936Z
UID:1201-1723766400-1724025599@nsrca.fun
SUMMARY:Omahawks RC Club Pattern Contest
DESCRIPTION:
URL:https://nsrca.fun/event/omahawks-rc-club-pattern-contest/
LOCATION:Omahawks RC Club\, 138th & Fort Street\, Omaha\, 68103\, United States
CATEGORIES:District 5
ATTACH;FMTTYPE=image/png:/wp-content/uploads/2022/12/Omaha.png
ORGANIZER;CN="Michael Furrow":MAILTO:dakoris73@gmail.com
END:VEVENT
BEGIN:VEVENT
DTSTART;VALUE=DATE:20240817
DTEND;VALUE=DATE:20240819
DTSTAMP:20260420T053951
CREATED:20240204T223820Z
LAST-MODIFIED:20240204T223820Z
UID:3841-1723852800-1724025599@nsrca.fun
SUMMARY:St Clarksville RC Fliers
DESCRIPTION:Please register at NSRCA.US
URL:https://nsrca.fun/event/st-clarksville-rc-fliers/
LOCATION:Capstone Model Airpark\, CR 80\, Saint Clairsville\, OH\, 43950\, United States
CATEGORIES:District 4
ATTACH;FMTTYPE=image/png:/wp-content/uploads/2024/02/Screenshot-2024-02-05-at-9.37.49 AM.png
ORGANIZER;CN="Scott MicNickle":MAILTO:nelson_jett@comcast.net
END:VEVENT
END:VCALENDAR