BEGIN:VCALENDAR
VERSION:2.0
PRODID:-//NSRCA F3A Pattern Event - ECPv6.5.1.5//NONSGML v1.0//EN
CALSCALE:GREGORIAN
METHOD:PUBLISH
X-ORIGINAL-URL:https://nsrca.fun
X-WR-CALDESC:Events for NSRCA F3A Pattern Event
REFRESH-INTERVAL;VALUE=DURATION:PT1H
X-Robots-Tag:noindex
X-PUBLISHED-TTL:PT1H
BEGIN:VTIMEZONE
TZID:America/New_York
BEGIN:DAYLIGHT
TZOFFSETFROM:-0500
TZOFFSETTO:-0400
TZNAME:EDT
DTSTART:20240310T070000
END:DAYLIGHT
BEGIN:STANDARD
TZOFFSETFROM:-0400
TZOFFSETTO:-0500
TZNAME:EST
DTSTART:20241103T060000
END:STANDARD
END:VTIMEZONE
BEGIN:VEVENT
DTSTART;VALUE=DATE:20240803
DTEND;VALUE=DATE:20240805
DTSTAMP:20260418T001912
CREATED:20240324T151751Z
LAST-MODIFIED:20240324T151751Z
UID:4120-1722643200-1722815999@nsrca.fun
SUMMARY:Treasure Valley Pattern Contest
DESCRIPTION:Welcome to Boise\, Idaho!  There will be a $50 entry fee and lunch will be available on Saturday.  Classes 401\, 402\, 403\, 404 and F3A will be offered.  First time Sportsman fly for free.   Camping is available at the field… no hook ups or electricity.  Come fly with us! \n 
URL:https://nsrca.fun/event/treasure-valley-pattern-contest/
LOCATION:Boise BARKS Field\, 2400 Kuna Mora Road\, Kuna\, ID\, 83634\, United States
CATEGORIES:District 8
ATTACH;FMTTYPE=image/png:/wp-content/uploads/2024/03/Screenshot-2024-03-24-at-11.17.04 AM.png
ORGANIZER;CN="karl Watts":MAILTO:karl.watts@saintalphonsus.org
END:VEVENT
END:VCALENDAR