BEGIN:VCALENDAR
VERSION:2.0
PRODID:-//NSRCA F3A Pattern Event - ECPv6.5.1.5//NONSGML v1.0//EN
CALSCALE:GREGORIAN
METHOD:PUBLISH
X-WR-CALNAME:NSRCA F3A Pattern Event
X-ORIGINAL-URL:https://nsrca.fun
X-WR-CALDESC:Events for NSRCA F3A Pattern Event
REFRESH-INTERVAL;VALUE=DURATION:PT1H
X-Robots-Tag:noindex
X-PUBLISHED-TTL:PT1H
BEGIN:VTIMEZONE
TZID:UTC
BEGIN:STANDARD
TZOFFSETFROM:+0000
TZOFFSETTO:+0000
TZNAME:UTC
DTSTART:20230101T000000
END:STANDARD
END:VTIMEZONE
BEGIN:VEVENT
DTSTART;VALUE=DATE:20230805
DTEND;VALUE=DATE:20230807
DTSTAMP:20260422T102901
CREATED:20221218T195300Z
LAST-MODIFIED:20230220T022833Z
UID:1198-1691193600-1691366399@nsrca.fun
SUMMARY:Minnesota Pattern Championships
DESCRIPTION:
URL:https://nsrca.fun/event/minnesota-pattern-championships/
LOCATION:Anoka County Radio Control Club\, Klondike Blvd\, Anoka\, MN\, United States
CATEGORIES:District 5
ATTACH;FMTTYPE=image/jpeg:/wp-content/uploads/2022/12/Red.jpeg
ORGANIZER;CN="Brian Dorff":MAILTO:bluebaronbrian@gmail.com
END:VEVENT
END:VCALENDAR