BEGIN:VCALENDAR
VERSION:2.0
PRODID:-//NSRCA F3A Pattern Event - ECPv6.5.1.5//NONSGML v1.0//EN
CALSCALE:GREGORIAN
METHOD:PUBLISH
X-WR-CALNAME:NSRCA F3A Pattern Event
X-ORIGINAL-URL:https://nsrca.fun
X-WR-CALDESC:Events for NSRCA F3A Pattern Event
REFRESH-INTERVAL;VALUE=DURATION:PT1H
X-Robots-Tag:noindex
X-PUBLISHED-TTL:PT1H
BEGIN:VTIMEZONE
TZID:America/New_York
BEGIN:DAYLIGHT
TZOFFSETFROM:-0500
TZOFFSETTO:-0400
TZNAME:EDT
DTSTART:20230312T070000
END:DAYLIGHT
BEGIN:STANDARD
TZOFFSETFROM:-0400
TZOFFSETTO:-0500
TZNAME:EST
DTSTART:20231105T060000
END:STANDARD
END:VTIMEZONE
BEGIN:VEVENT
DTSTART;VALUE=DATE:20230721
DTEND;VALUE=DATE:20230723
DTSTAMP:20260424T174826
CREATED:20230522T162639Z
LAST-MODIFIED:20230522T162639Z
UID:3022-1689897600-1690070399@nsrca.fun
SUMMARY:Pre-Nat's Pattern Fly-in!
DESCRIPTION:Return of the Meet Me in St. Louis \nNo competition planned\, just some informal pre-NAT’s warm-up flights with other folks headed to Muncie\, a bit of camaraderie\, exchange of pattern knowledge and other lies. \nField open at 9:00 am. Contact us if you want to fly Thursday\, July 20th or earlier\, arms can be twisted.
URL:https://nsrca.fun/event/pre-nats-pattern-fly-in/
LOCATION:Phantom Flyers R/C\, 4260 Wiedey Road\, St. Charles\, MO\, United States
CATEGORIES:District 5
ORGANIZER;CN="Ed White":MAILTO:pattern@phantomflyersrc.com
END:VEVENT
END:VCALENDAR